Workbook

Sheet Cuadrante
A1: CUADRANTE DE TURNOS MENSUAL
A2: Elige año y mes, escribe los nombres y pon un código de turno en cada día. Las horas se suman solas.
A3: Año | B3: 2026 | E3: Mes (1-12) | H3: 11 | K3: Empresa o centro:
A5: Persona | B5: =IF(1<=DAY(EOMONTH(DATE($B$3,$H$3,1),0)),1,"") | C5: =IF(2<=DAY(EOMONTH(DATE($B$3,$H$3,1),0)),2,"") | D5: =IF(3<=DAY(EOMONTH(DATE($B$3,$H$3,1),0)),3,"") | E5: =IF(4<=DAY(EOMONTH(DATE($B$3,$H$3,1),0)),4,"") | F5: =IF(5<=DAY(EOMONTH(DATE($B$3,$H$3,1),0)),5,"") | G5: =IF(6<=DAY(EOMONTH(DATE($B$3,$H$3,1),0)),6,"") | H5: =IF(7<=DAY(EOMONTH(DATE($B$3,$H$3,1),0)),7,"") | I5: =IF(8<=DAY(EOMONTH(DATE($B$3,$H$3,1),0)),8,"") | J5: =IF(9<=DAY(EOMONTH(DATE($B$3,$H$3,1),0)),9,"") | K5: =IF(10<=DAY(EOMONTH(DATE($B$3,$H$3,1),0)),10,"") | L5: =IF(11<=DAY(EOMONTH(DATE($B$3,$H$3,1),0)),11,"") | M5: =IF(12<=DAY(EOMONTH(DATE($B$3,$H$3,1),0)),12,"") | N5: =IF(13<=DAY(EOMONTH(DATE($B$3,$H$3,1),0)),13,"") | O5: =IF(14<=DAY(EOMONTH(DATE($B$3,$H$3,1),0)),14,"") | P5: =IF(15<=DAY(EOMONTH(DATE($B$3,$H$3,1),0)),15,"") | Q5: =IF(16<=DAY(EOMONTH(DATE($B$3,$H$3,1),0)),16,"") | R5: =IF(17<=DAY(EOMONTH(DATE($B$3,$H$3,1),0)),17,"") | S5: =IF(18<=DAY(EOMONTH(DATE($B$3,$H$3,1),0)),18,"") | T5: =IF(19<=DAY(EOMONTH(DATE($B$3,$H$3,1),0)),19,"") | U5: =IF(20<=DAY(EOMONTH(DATE($B$3,$H$3,1),0)),20,"") | V5: =IF(21<=DAY(EOMONTH(DATE($B$3,$H$3,1),0)),21,"") | W5: =IF(22<=DAY(EOMONTH(DATE($B$3,$H$3,1),0)),22,"") | X5: =IF(23<=DAY(EOMONTH(DATE($B$3,$H$3,1),0)),23,"") | Y5: =IF(24<=DAY(EOMONTH(DATE($B$3,$H$3,1),0)),24,"") | Z5: =IF(25<=DAY(EOMONTH(DATE($B$3,$H$3,1),0)),25,"") | AA5: =IF(26<=DAY(EOMONTH(DATE($B$3,$H$3,1),0)),26,"") | AB5: =IF(27<=DAY(EOMONTH(DATE($B$3,$H$3,1),0)),27,"") | AC5: =IF(28<=DAY(EOMONTH(DATE($B$3,$H$3,1),0)),28,"") | AD5: =IF(29<=DAY(EOMONTH(DATE($B$3,$H$3,1),0)),29,"") | AE5: =IF(30<=DAY(EOMONTH(DATE($B$3,$H$3,1),0)),30,"") | AF5: =IF(31<=DAY(EOMONTH(DATE($B$3,$H$3,1),0)),31,"") | AG5: Horas mes | AH5: Media semanal
B6: =IF(B5="","",MID("LMXJVSD",WEEKDAY(DATE($B$3,$H$3,B5),2),1)) | C6: =IF(C5="","",MID("LMXJVSD",WEEKDAY(DATE($B$3,$H$3,C5),2),1)) | D6: =IF(D5="","",MID("LMXJVSD",WEEKDAY(DATE($B$3,$H$3,D5),2),1)) | E6: =IF(E5="","",MID("LMXJVSD",WEEKDAY(DATE($B$3,$H$3,E5),2),1)) | F6: =IF(F5="","",MID("LMXJVSD",WEEKDAY(DATE($B$3,$H$3,F5),2),1)) | G6: =IF(G5="","",MID("LMXJVSD",WEEKDAY(DATE($B$3,$H$3,G5),2),1)) | H6: =IF(H5="","",MID("LMXJVSD",WEEKDAY(DATE($B$3,$H$3,H5),2),1)) | I6: =IF(I5="","",MID("LMXJVSD",WEEKDAY(DATE($B$3,$H$3,I5),2),1)) | ... AF6: =IF(AF5="","",MID("LMXJVSD",WEEKDAY(DATE($B$3,$H$3,AF5),2),1))
A7: Ana | B7: L | C7: T | D7: T | E7: T | F7: T | G7: T | H7: L | I7: L | J7: M | K7: M | L7: M | M7: M | N7: M | O7: L | P7: L | Q7: T | R7: T | S7: T | T7: T | U7: T | V7: L | W7: L | X7: M | Y7: M | Z7: M | AA7: M | AB7: M | AC7: L | AD7: L | AE7: T | AG7: =IF(A7="","",SUMPRODUCT(COUNTIF(B7:AF7,Turnos!$A$4:$A$11),Turnos!$C$4:$C$11)) | AH7: =IF(A7="","",ROUND(AG7/(DAY(EOMONTH(DATE($B$3,$H$3,1),0))/7),1))
A8: Luis | B8: L | C8: M | D8: M | E8: M | F8: M | G8: M | H8: L | I8: L | J8: T | K8: T | L8: T | M8: T | N8: T | O8: L | P8: L | Q8: M | R8: M | S8: M | T8: M | U8: M | V8: L | W8: L | X8: T | Y8: T | Z8: T | AA8: T | AB8: T | AC8: L | AD8: L | AE8: M | AG8: =IF(A8="","",SUMPRODUCT(COUNTIF(B8:AF8,Turnos!$A$4:$A$11),Turnos!$C$4:$C$11)) | AH8: =IF(A8="","",ROUND(AG8/(DAY(EOMONTH(DATE($B$3,$H$3,1),0))/7),1))
A9: Carmen | B9: L | C9: M | D9: M | E9: M | F9: M | G9: M | H9: L | I9: L | J9: V | K9: V | L9: V | M9: V | N9: V | O9: L | P9: L | Q9: M | R9: M | S9: M | T9: M | U9: M | V9: L | W9: L | X9: M | Y9: M | Z9: M | AA9: M | AB9: M | AC9: L | AD9: L | AE9: M | AG9: =IF(A9="","",SUMPRODUCT(COUNTIF(B9:AF9,Turnos!$A$4:$A$11),Turnos!$C$4:$C$11)) | AH9: =IF(A9="","",ROUND(AG9/(DAY(EOMONTH(DATE($B$3,$H$3,1),0))/7),1))
AG10: =IF(A10="","",SUMPRODUCT(COUNTIF(B10:AF10,Turnos!$A$4:$A$11),Turnos!$C$4:$C$11)) | AH10: =IF(A10="","",ROUND(AG10/(DAY(EOMONTH(DATE($B$3,$H$3,1),0))/7),1))
AG11: =IF(A11="","",SUMPRODUCT(COUNTIF(B11:AF11,Turnos!$A$4:$A$11),Turnos!$C$4:$C$11)) | AH11: =IF(A11="","",ROUND(AG11/(DAY(EOMONTH(DATE($B$3,$H$3,1),0))/7),1))
AG12: =IF(A12="","",SUMPRODUCT(COUNTIF(B12:AF12,Turnos!$A$4:$A$11),Turnos!$C$4:$C$11)) | AH12: =IF(A12="","",ROUND(AG12/(DAY(EOMONTH(DATE($B$3,$H$3,1),0))/7),1))
AG13: =IF(A13="","",SUMPRODUCT(COUNTIF(B13:AF13,Turnos!$A$4:$A$11),Turnos!$C$4:$C$11)) | AH13: =IF(A13="","",ROUND(AG13/(DAY(EOMONTH(DATE($B$3,$H$3,1),0))/7),1))
AG14: =IF(A14="","",SUMPRODUCT(COUNTIF(B14:AF14,Turnos!$A$4:$A$11),Turnos!$C$4:$C$11)) | AH14: =IF(A14="","",ROUND(AG14/(DAY(EOMONTH(DATE($B$3,$H$3,1),0))/7),1))
AG15: =IF(A15="","",SUMPRODUCT(COUNTIF(B15:AF15,Turnos!$A$4:$A$11),Turnos!$C$4:$C$11)) | AH15: =IF(A15="","",ROUND(AG15/(DAY(EOMONTH(DATE($B$3,$H$3,1),0))/7),1))
AG16: =IF(A16="","",SUMPRODUCT(COUNTIF(B16:AF16,Turnos!$A$4:$A$11),Turnos!$C$4:$C$11)) | AH16: =IF(A16="","",ROUND(AG16/(DAY(EOMONTH(DATE($B$3,$H$3,1),0))/7),1))
AG17: =IF(A17="","",SUMPRODUCT(COUNTIF(B17:AF17,Turnos!$A$4:$A$11),Turnos!$C$4:$C$11)) | AH17: =IF(A17="","",ROUND(AG17/(DAY(EOMONTH(DATE($B$3,$H$3,1),0))/7),1))
AG18: =IF(A18="","",SUMPRODUCT(COUNTIF(B18:AF18,Turnos!$A$4:$A$11),Turnos!$C$4:$C$11)) | AH18: =IF(A18="","",ROUND(AG18/(DAY(EOMONTH(DATE($B$3,$H$3,1),0))/7),1))
A20: Códigos y horas de cada turno en la hoja «Turnos». La media semanal orienta sobre el límite de 40 horas de promedio anual; el cuadrante no sustituye al registro diario de jornada (art. 34.9 del Estatuto). Plantilla de plantillasymodelos.net, revisada en septiembre de 2026.

Sheet Turnos
A1: CÓDIGOS DE TURNO
A3: Código | B3: Turno (cámbialo por el tuyo) | C3: Horas
A4: M | B4: Mañana 7:00 – 15:00 | C4: 8
A5: T | B5: Tarde 15:00 – 23:00 | C5: 8
A6: N | B6: Noche 23:00 – 7:00 | C6: 8
A7: P | B7: Partido 10:00 – 14:00 y 17:00 – 21:00 | C7: 8
A8: R | B8: Reducido 9:00 – 13:00 | C8: 4
A9: L | B9: Libre | C9: 0
A10: V | B10: Vacaciones | C10: 0
A11: B | B11: Baja o permiso | C11: 0
A14: Límites legales (Estatuto de los Trabajadores): 40 horas semanales de promedio anual; 9 horas ordinarias al día salvo convenio; 12 horas de descanso entre jornadas; día y medio de descanso semanal; trabajo nocturno máximo de 8 horas diarias de promedio en 15 días.
